BEGIN:VCALENDAR
VERSION:2.0
CALSCALE:GREGORIAN
PRODID:-//Diputació de Barcelona//DibaCMS//EN
BEGIN:VEVENT
UID:1235
DTSTAMP:20260420T162428
DTSTART:20090813T180000
DTEND:20090813T000000
SUMMARY:Cercavila de bicicletes i andròmines guarnides
LOCATION:
METHOD:PUBLISH
X-WR-CALNAME:ullastrell@ullastrell.cat
X-WR-TIMEZONE:Europe/Madrid
DESCRIPTION:Una tradició que quasi es perd a Ullastrell és la passejada de bicicletes guarnides. Aquest any però, recuperem la tradició d'una manera molt especial.Totes les bicicletes i andròmines han d'anar guardines per poder optar al premi a la Millor Bicicleta o a la Millor Andròmina. Passejada per tot el poble.
 
Els participants faran de jurat en el Concurs de Carrers i Façanes engalanades per votació popular.Lloc: Davant de l’AjuntamentOrganitzador: Grup de Muntanya
URI:https://www.ullastrell.cat/actualitat/agenda/cercavila-de-bicicletes-i-andromines-guarnides.html
CLASS:PUBLIC
END:VEVENT
END:VCALENDAR
