BEGIN:VCALENDAR
VERSION:2.0
CALSCALE:GREGORIAN
PRODID:-//Diputació de Barcelona//DibaCMS//EN
BEGIN:VEVENT
UID:1236
DTSTAMP:20260420T132847
DTSTART:20090813T180000
DTEND:20090813T000000
SUMMARY:Concurs de carrers i façanes engalanades
LOCATION:
METHOD:PUBLISH
X-WR-CALNAME:ullastrell@ullastrell.cat
X-WR-TIMEZONE:Europe/Madrid
DESCRIPTION:Premi als millors carrers i façanes engalanades.Aquest any, el concurs és popular. Premis a la millor façana i al millor carrer.
El jurat serà tots els participants en la Cercavila de Bicicletes i Andròmines guarnides.Lloc: Per tot el pobleOrganitzador: Ajuntament
URI:https://www.ullastrell.cat/actualitat/agenda/concurs-de-carrers-i-facanes-engalanades.html
CLASS:PUBLIC
END:VEVENT
END:VCALENDAR
