BEGIN:VCALENDAR
VERSION:2.0
CALSCALE:GREGORIAN
PRODID:-//Diputació de Barcelona//DibaCMS//EN
BEGIN:VEVENT
UID:1237
DTSTAMP:20260420T135617
DTSTART:20090813T193000
DTEND:20090813T000000
SUMMARY:Sorteig de la ubicació de les taules de la pista
LOCATION:
METHOD:PUBLISH
X-WR-CALNAME:ullastrell@ullastrell.cat
X-WR-TIMEZONE:Europe/Madrid
DESCRIPTION:Reserva de taules:
Constarà d'una taula i sis cadires que estaran reservades en els següents actes:

Ball del dia 13


Concert de Rock català


Festival de música local(ubicació especial)


Concert de Festa Major del dia 15 (ubicació especial)


Ball del dia 15

Descompte i tria de lloc pel espectacle del Tomeu Peña
La decoració de les taules, és gentilesa de Cerabella. S'obsequiarà amb una ampolla de cava d'un dia ha escollir.
El preu serà de 72 €, hi es podrà reservar a l'Ajuntament fins al dia 13 a les dues de la tarda al telèfon 93 788 72 62 o a ullastrell@diba.es
 
 Lloc: al Casal CulturalOrganitzador: Ajuntament
URI:https://www.ullastrell.cat/actualitat/agenda/sorteig-de-la-ubicacio-de-les-taules-de-la-pista.html
CLASS:PUBLIC
END:VEVENT
END:VCALENDAR
