BEGIN:VCALENDAR
VERSION:2.0
CALSCALE:GREGORIAN
PRODID:-//Diputació de Barcelona//DibaCMS//EN
BEGIN:VEVENT
UID:1239
DTSTAMP:20260420T132816
DTSTART:20090813T210000
DTEND:20090813T000000
SUMMARY:Pregó de la festa major
LOCATION:
METHOD:PUBLISH
X-WR-CALNAME:ullastrell@ullastrell.cat
X-WR-TIMEZONE:Europe/Madrid
DESCRIPTION:A càrrec del popular periodista de ràdio Llucià Ferrer.Lloc: A l'AjuntamentOrganitzador: Ajuntament
URI:https://www.ullastrell.cat/actualitat/agenda/prego-de-la-festa-major.html
CLASS:PUBLIC
END:VEVENT
END:VCALENDAR
