BEGIN:VCALENDAR
VERSION:2.0
CALSCALE:GREGORIAN
PRODID:-//Diputació de Barcelona//DibaCMS//EN
BEGIN:VEVENT
UID:1240
DTSTAMP:20260420T120927
DTSTART:20090813T213000
DTEND:20090816T000000
SUMMARY:Inauguració: Tómbola de la coral i Exposició de Fotografia
LOCATION:
METHOD:PUBLISH
X-WR-CALNAME:ullastrell@ullastrell.cat
X-WR-TIMEZONE:Europe/Madrid
DESCRIPTION:Tómbola de la coral:La Coral d'Ullastrell organitza la Tómbola de Festa Major, durant tots els dies de la Festa o fins que s'acabin els números.L'horari serà de 12 a 14 hores i de 6 a 9 de la tarda.
 
1a Exposició de Fotografia:El mateix horari que la tòmbola.Lloc: Sala d'Exposicions del CasalOrganitzador: La Coral i FOCU
URI:https://www.ullastrell.cat/actualitat/agenda/inauguracio-tombola-de-la-coral-i-exposicio-de-fotografia.html
CLASS:PUBLIC
END:VEVENT
END:VCALENDAR
