BEGIN:VCALENDAR
VERSION:2.0
CALSCALE:GREGORIAN
PRODID:-//Diputació de Barcelona//DibaCMS//EN
BEGIN:VEVENT
UID:1242
DTSTAMP:20260420T121102
DTSTART:20090813T223000
DTEND:20090813T000000
SUMMARY:Inici del ball de Festa Major
LOCATION:
METHOD:PUBLISH
X-WR-CALNAME:ullastrell@ullastrell.cat
X-WR-TIMEZONE:Europe/Madrid
DESCRIPTION:A càrrec de l'orquestra MetropolLloc: A la PistaOrganitzador: Ajuntament
URI:https://www.ullastrell.cat/actualitat/agenda/inici-del-ball-de-festa-major.html
CLASS:PUBLIC
END:VEVENT
END:VCALENDAR
