BEGIN:VCALENDAR
VERSION:2.0
CALSCALE:GREGORIAN
PRODID:-//Diputació de Barcelona//DibaCMS//EN
BEGIN:VEVENT
UID:1245
DTSTAMP:20260420T122837
DTSTART:20090814T110000
DTEND:20090814T000000
SUMMARY:Masterclass de ioga
LOCATION:
METHOD:PUBLISH
X-WR-CALNAME:ullastrell@ullastrell.cat
X-WR-TIMEZONE:Europe/Madrid
DESCRIPTION:Masterclass de ioga a càrrec de la Montse MateuLloc: al Gimnàs de l'Escola SerralavellaOrganitzador: 
URI:https://www.ullastrell.cat/actualitat/agenda/masterclass-de-ioga.html
CLASS:PUBLIC
END:VEVENT
END:VCALENDAR
