BEGIN:VCALENDAR
VERSION:2.0
CALSCALE:GREGORIAN
PRODID:-//Diputació de Barcelona//DibaCMS//EN
BEGIN:VEVENT
UID:1248
DTSTAMP:20260420T134511
DTSTART:20090816T110000
DTEND:20090816T140000
SUMMARY:Instal·lació de inflables aquàtics - 16/08/2009
LOCATION:
METHOD:PUBLISH
X-WR-CALNAME:ullastrell@ullastrell.cat
X-WR-TIMEZONE:Europe/Madrid
DESCRIPTION:Instal·lació de inflables aquàticsLloc: A la Piscina MunicipalOrganitzador: Ajuntament i Diputació de Barcelona
URI:https://www.ullastrell.cat/actualitat/agenda/installacio-de-inflables-aquatics-16082009.html
CLASS:PUBLIC
END:VEVENT
END:VCALENDAR
