BEGIN:VCALENDAR
VERSION:2.0
CALSCALE:GREGORIAN
PRODID:-//Diputació de Barcelona//DibaCMS//EN
BEGIN:VEVENT
UID:1258
DTSTAMP:20260420T133942
DTSTART:20090815T100000
DTEND:20090815T000000
SUMMARY:Matines: "Xaranga Lo Perkal"
LOCATION:
METHOD:PUBLISH
X-WR-CALNAME:ullastrell@ullastrell.cat
X-WR-TIMEZONE:Europe/Madrid
DESCRIPTION:Despertada general pels que encara dormin amb Xaranga Lo Perkal. Per tot el pobleLloc: Per tot el pobleOrganitzador: Ajuntament
URI:https://www.ullastrell.cat/actualitat/agenda/matines-xaranga-lo-perkal.html
CLASS:PUBLIC
END:VEVENT
END:VCALENDAR
