BEGIN:VCALENDAR
VERSION:2.0
CALSCALE:GREGORIAN
PRODID:-//Diputació de Barcelona//DibaCMS//EN
BEGIN:VEVENT
UID:1262
DTSTAMP:20260420T120855
DTSTART:20090815T180000
DTEND:20090815T000000
SUMMARY:III Campionat de Sudokus
LOCATION:
METHOD:PUBLISH
X-WR-CALNAME:ullastrell@ullastrell.cat
X-WR-TIMEZONE:Europe/Madrid
DESCRIPTION:III Campionat de SudokusLloc: A l'Altell del CasalOrganitzador: 
URI:https://www.ullastrell.cat/actualitat/agenda/iii-campionat-de-sudokus.html
CLASS:PUBLIC
END:VEVENT
END:VCALENDAR
