BEGIN:VCALENDAR
VERSION:2.0
CALSCALE:GREGORIAN
PRODID:-//Diputació de Barcelona//DibaCMS//EN
BEGIN:VEVENT
UID:1263
DTSTAMP:20260420T121003
DTSTART:20090815T180000
DTEND:20090815T000000
SUMMARY:Partits de waterpolo	 infantil
LOCATION:
METHOD:PUBLISH
X-WR-CALNAME:ullastrell@ullastrell.cat
X-WR-TIMEZONE:Europe/Madrid
DESCRIPTION:Partits de waterpolo infantilLloc: A la Piscina MunicipalOrganitzador: Agu
URI:https://www.ullastrell.cat/actualitat/agenda/partits-de-waterpolo-infantil.html
CLASS:PUBLIC
END:VEVENT
END:VCALENDAR
