BEGIN:VCALENDAR
VERSION:2.0
CALSCALE:GREGORIAN
PRODID:-//Diputació de Barcelona//DibaCMS//EN
BEGIN:VEVENT
UID:1269
DTSTAMP:20260419T154527
DTSTART:20090815T233000
DTEND:20090815T000000
SUMMARY:Ball de festa major 
LOCATION:
METHOD:PUBLISH
X-WR-CALNAME:ullastrell@ullastrell.cat
X-WR-TIMEZONE:Europe/Madrid
DESCRIPTION:a càrrec de Orquestra CàlidaLloc: A la PistaOrganitzador: Ajuntament
URI:https://www.ullastrell.cat/actualitat/agenda/ball-de-festa-major-.html
CLASS:PUBLIC
END:VEVENT
END:VCALENDAR
