BEGIN:VCALENDAR
VERSION:2.0
CALSCALE:GREGORIAN
PRODID:-//Diputació de Barcelona//DibaCMS//EN
BEGIN:VEVENT
UID:1273
DTSTAMP:20260419T150325
DTSTART:20100411T123000
DTEND:20100411T000000
SUMMARY:Festa Homenatge a la gent gran
LOCATION:
METHOD:PUBLISH
X-WR-CALNAME:ullastrell@ullastrell.cat
X-WR-TIMEZONE:Europe/Madrid
DESCRIPTION:Ofici solemne per tots els homenatjats.Festa d'Homenatge a la Gent Gran del nostre poble en els que es realitzaran diferents actes.Lloc: Esglèsia de Santa Maria d'UllastrellOrganitzador: Ajuntament
URI:https://www.ullastrell.cat/actualitat/agenda/festa-homenatge-a-la-gent-gran.html
CLASS:PUBLIC
END:VEVENT
END:VCALENDAR
