BEGIN:VCALENDAR
VERSION:2.0
CALSCALE:GREGORIAN
PRODID:-//Diputació de Barcelona//DibaCMS//EN
BEGIN:VEVENT
UID:1274
DTSTAMP:20260419T150504
DTSTART:20100411T143000
DTEND:20100411T000000
SUMMARY:Dinar d'Homenatge a la Gent Gran
LOCATION:
METHOD:PUBLISH
X-WR-CALNAME:ullastrell@ullastrell.cat
X-WR-TIMEZONE:Europe/Madrid
DESCRIPTION:Dinar ofert a tota la gent gran d'UllastrellDins dels actes de la Festa d'Homenatge a la gent gran, un dels que té més repercussió és el dinar que s'ofereix a tots ells, on es retroba tothom en un ambient de festa i cordialitat.Lloc: Restaurant La BòbilaOrganitzador: Ajuntament
URI:https://www.ullastrell.cat/actualitat/agenda/dinar-dhomenatge-a-la-gent-gran.html
CLASS:PUBLIC
END:VEVENT
END:VCALENDAR
