BEGIN:VCALENDAR
VERSION:2.0
CALSCALE:GREGORIAN
PRODID:-//Diputació de Barcelona//DibaCMS//EN
BEGIN:VEVENT
UID:1276
DTSTAMP:20260419T150017
DTSTART:20100423T000000
DTEND:20100423T000000
SUMMARY:Paradetes de Sant Jordi - 23/04/2010
LOCATION:
METHOD:PUBLISH
X-WR-CALNAME:ullastrell@ullastrell.cat
X-WR-TIMEZONE:Europe/Madrid
DESCRIPTION:Festa de Sant JordiCom cada any, el dia de Sant Jordi s'instal.laran davant de l'Ajuntament les parades, on podreu comprar llibres, roses, pa de Sant Jordi, veure les últimes novetats que ha adquirit la Biblioteca Josep Massagué i gaudir de la diada.
 
A les 7 de la tarda, es donarà el veredicte del jurat en el II concurs de punts de llibre, i es farà entrega dels premis als guanyadors.Lloc: Davant de l'AjuntamentOrganitzador: Ajuntament
URI:https://www.ullastrell.cat/actualitat/agenda/paradetes-de-sant-jordi-23042010.html
CLASS:PUBLIC
END:VEVENT
END:VCALENDAR
