BEGIN:VCALENDAR
VERSION:2.0
CALSCALE:GREGORIAN
PRODID:-//Diputació de Barcelona//DibaCMS//EN
BEGIN:VEVENT
UID:1278
DTSTAMP:20260419T190848
DTSTART:20100531T203000
DTEND:20100531T000000
SUMMARY:Ple ordinari municipal - 31/05/2010
LOCATION:
METHOD:PUBLISH
X-WR-CALNAME:ullastrell@ullastrell.cat
X-WR-TIMEZONE:Europe/Madrid
DESCRIPTION:Ple ordinariLloc: Sala de Plens de l'AjuntamentOrganitzador: Ajuntament
URI:https://www.ullastrell.cat/actualitat/agenda/ple-ordinari-municipal-31052010.html
CLASS:PUBLIC
END:VEVENT
END:VCALENDAR
