BEGIN:VCALENDAR
VERSION:2.0
CALSCALE:GREGORIAN
PRODID:-//Diputació de Barcelona//DibaCMS//EN
BEGIN:VEVENT
UID:1279
DTSTAMP:20260419T173710
DTSTART:20100601T110000
DTEND:20100601T130000
SUMMARY:Oficina mòbil del consumidor - 01/06/2010
LOCATION:
METHOD:PUBLISH
X-WR-CALNAME:ullastrell@ullastrell.cat
X-WR-TIMEZONE:Europe/Madrid
DESCRIPTION:Oficina mòbil del consumidorA l'Oficina Mòbil els tècnics de la Diputació de Barcelona atendran als ciutadans en totes aquestes qüestions o dubtes relacionades amb l'àmbit dels drets dels consumidors, etiquetatge i garanties de productes, compra i lloguer d'habitatges, serveis bancaris, assegurances, compra-venda de vehicles, serveis post-venda, compres fora d'establiment, serveis turístics, etc.Lloc: Davant de l'AjuntamentOrganitzador: Ajuntament i Diputació de Barcelona
URI:https://www.ullastrell.cat/actualitat/agenda/oficina-mobil-del-consumidor-01062010.html
CLASS:PUBLIC
END:VEVENT
END:VCALENDAR
