BEGIN:VCALENDAR
VERSION:2.0
CALSCALE:GREGORIAN
PRODID:-//Diputació de Barcelona//DibaCMS//EN
BEGIN:VEVENT
UID:1281
DTSTAMP:20260419T160251
DTSTART:20100605T090000
DTEND:20100605T000000
SUMMARY:Final de curs esportiva
LOCATION:
METHOD:PUBLISH
X-WR-CALNAME:ullastrell@ullastrell.cat
X-WR-TIMEZONE:Europe/Madrid
DESCRIPTION:Final de curs de tots els esports i activitats extraescolars.Final de curs de futbol , i exhibició a la pista de multiesport, voleibol i patinatge.
A la sala d'actes del casal, festival de gimnàstica.Lloc: Zona esportiva i CasalOrganitzador: AGU
URI:https://www.ullastrell.cat/actualitat/agenda/final-de-curs-esportiva.html
CLASS:PUBLIC
END:VEVENT
END:VCALENDAR
