BEGIN:VCALENDAR
VERSION:2.0
CALSCALE:GREGORIAN
PRODID:-//Diputació de Barcelona//DibaCMS//EN
BEGIN:VEVENT
UID:1289
DTSTAMP:20260420T021223
DTSTART:20100927T203000
DTEND:20100927T000000
SUMMARY:Ple Ordinari Municipal - 27/09/2010
LOCATION:
METHOD:PUBLISH
X-WR-CALNAME:ullastrell@ullastrell.cat
X-WR-TIMEZONE:Europe/Madrid
DESCRIPTION:Ple Ordinari Municipal.
 Lloc: Sala de Plens de l'AjuntamentOrganitzador: Ajuntament
URI:https://www.ullastrell.cat/actualitat/agenda/ple-ordinari-municipal-27092010.html
CLASS:PUBLIC
END:VEVENT
END:VCALENDAR
