BEGIN:VCALENDAR
VERSION:2.0
CALSCALE:GREGORIAN
PRODID:-//Diputació de Barcelona//DibaCMS//EN
BEGIN:VEVENT
UID:1295
DTSTAMP:20260419T202844
DTSTART:20101116T110000
DTEND:20101116T130000
SUMMARY:Oficina mòbil d'Informació al Consumidor
LOCATION:
METHOD:PUBLISH
X-WR-CALNAME:ullastrell@ullastrell.cat
X-WR-TIMEZONE:Europe/Madrid
DESCRIPTION:A l'Oficina Mòbil els tècnics de la Diputació de Barcelona atendran als ciutadans en totes aquestes qüestions o dubtes relacionades amb l'àmbit dels drets dels consumidors, etiquetatge i garanties de productes, compra i lloguer d'habitatges, serveis bancaris, assegurances, compra-venda de vehicles, serveis post-venda, compres fora d'establiment, serveis turístics, etc.Lloc: Davant de l'AjuntamentOrganitzador: Diputació de Barcelona
URI:https://www.ullastrell.cat/actualitat/agenda/oficina-mobil-dinformacio-al-consumidor.html
CLASS:PUBLIC
END:VEVENT
END:VCALENDAR
