BEGIN:VCALENDAR
VERSION:2.0
CALSCALE:GREGORIAN
PRODID:-//Diputació de Barcelona//DibaCMS//EN
BEGIN:VEVENT
UID:1297
DTSTAMP:20260420T045325
DTSTART:20101118T180000
DTEND:20101118T000000
SUMMARY:L'hora del conte - 18/11/2010
LOCATION:
METHOD:PUBLISH
X-WR-CALNAME:ullastrell@ullastrell.cat
X-WR-TIMEZONE:Europe/Madrid
DESCRIPTION:A càrrec d'Elisabeth Ulibarri i amb la sessió "contes que s'emporta el vent".
 
 Lloc: Biblioteca Josep MassaguéOrganitzador: Biblioteca Josep Massagué
URI:https://www.ullastrell.cat/actualitat/agenda/lhora-del-conte-18112010.html
CLASS:PUBLIC
END:VEVENT
END:VCALENDAR
