BEGIN:VCALENDAR
VERSION:2.0
CALSCALE:GREGORIAN
PRODID:-//Diputació de Barcelona//DibaCMS//EN
BEGIN:VEVENT
UID:1300
DTSTAMP:20260420T033614
DTSTART:20101221T200000
DTEND:20101221T000000
SUMMARY:Xerrada : Els canvis a l'adolescència
LOCATION:
METHOD:PUBLISH
X-WR-CALNAME:ullastrell@ullastrell.cat
X-WR-TIMEZONE:Europe/Madrid
DESCRIPTION:Xerrada a càrrec del ponent Carlos Giménez referent als canvis a l'adolescència.
 
 Lloc: Altell del casalOrganitzador: Regidoria de Joventut
URI:https://www.ullastrell.cat/actualitat/agenda/xerrada--els-canvis-a-ladolescencia.html
CLASS:PUBLIC
END:VEVENT
END:VCALENDAR
