BEGIN:VCALENDAR
VERSION:2.0
CALSCALE:GREGORIAN
PRODID:-//Diputació de Barcelona//DibaCMS//EN
BEGIN:VEVENT
UID:1302
DTSTAMP:20260420T033544
DTSTART:20110131T203000
DTEND:20110131T000000
SUMMARY:Ple Ordinari Municipal - 31/01/2011
LOCATION:
METHOD:PUBLISH
X-WR-CALNAME:ullastrell@ullastrell.cat
X-WR-TIMEZONE:Europe/Madrid
DESCRIPTION:Ple ordinari mensual.
 
 Lloc: Sala de Plens de l'AjuntamentOrganitzador: Ajuntament
URI:https://www.ullastrell.cat/actualitat/agenda/ple-ordinari-municipal-31012011.html
CLASS:PUBLIC
END:VEVENT
END:VCALENDAR
