BEGIN:VCALENDAR
VERSION:2.0
CALSCALE:GREGORIAN
PRODID:-//Diputació de Barcelona//DibaCMS//EN
BEGIN:VEVENT
UID:1303
DTSTAMP:20260419T232551
DTSTART:20110131T110000
DTEND:20110131T130000
SUMMARY:Oficina mòbil del consumidor - 31/01/2011
LOCATION:
METHOD:PUBLISH
X-WR-CALNAME:ullastrell@ullastrell.cat
X-WR-TIMEZONE:Europe/Madrid
DESCRIPTION:A l'oficina mòbil els tècnics de Diputació de Barcelona atendran els ciutadans en totes aquelles qüestions o dubtes relacionats amb l'àmbit dels drets dels consumidors, etiquetatge i garanties de productes, compra i lloguer d'habitatges, serveis bancaris, assegurances, compra venda de vehicles, servei post venda, compres fora d'establiment, serveis turístics etc.Lloc: Davant de l'AjuntamentOrganitzador: Ajuntament i Diputació de Barcelona
URI:https://www.ullastrell.cat/actualitat/agenda/oficina-mobil-del-consumidor-31012011.html
CLASS:PUBLIC
END:VEVENT
END:VCALENDAR
