BEGIN:VCALENDAR
VERSION:2.0
CALSCALE:GREGORIAN
PRODID:-//Diputació de Barcelona//DibaCMS//EN
BEGIN:VEVENT
UID:1324
DTSTAMP:20260419T150027
DTSTART:20100414T153000
DTEND:20100414T000000
SUMMARY:El Bibliobús "La Mola" es fa amic dels diables
LOCATION:
METHOD:PUBLISH
X-WR-CALNAME:ullastrell@ullastrell.cat
X-WR-TIMEZONE:Europe/Madrid
DESCRIPTION:Programa de foment de la lectura al bibliobús Primavera 2010Res no ens agrada més que compartir amb vosaltres històries, coneixements i músiques i parlar-ne després tots junts. Així que amb molta il.lusió el Bibliobús La Mola presente Un conte atalabat, un espectacle de Puça Espectacles amb Cristina Cazorla i Miquel Àngel Gelabert dalt de l'escenari, ells dos amb l'ajuda d'uns petits diables amb qui compatiran escenari, ens aproparan els diables de les festes i els correfocs i ens endinsaran en un món fascinant de foc i soroll.
 
I quant aquest espectacle s'hagi acabat i torni la calma, recordeu que al bibliobús podeu demanar llibres, revistes, pel.lícules i discos de tot allò que us interessi.Lloc: Sala Actes CasalOrganitzador: Biblioteca Josep Massagué
URI:https://www.ullastrell.cat/actualitat/agenda/el-bibliobus-la-mola-es-fa-amic-dels-diables.html
CLASS:PUBLIC
END:VEVENT
END:VCALENDAR
