BEGIN:VCALENDAR
VERSION:2.0
CALSCALE:GREGORIAN
PRODID:-//Diputació de Barcelona//DibaCMS//EN
BEGIN:VEVENT
UID:1325
DTSTAMP:20260419T150454
DTSTART:20100411T180000
DTEND:20100411T000000
SUMMARY:Recital de danses catalanes
LOCATION:
METHOD:PUBLISH
X-WR-CALNAME:ullastrell@ullastrell.cat
X-WR-TIMEZONE:Europe/Madrid
DESCRIPTION:Actuació de l'Esbart Dansaire del VallèsDins de la programació d'actes per l'Homenatge a la Gent Gran del nostre poble, l'Esbart Dansaire del Vallès, que enguany celebren els 25 anys d'existència, ens oferirà un recital de danses catalanes.Lloc: Sala Actes CasalOrganitzador: Ajuntament
URI:https://www.ullastrell.cat/actualitat/agenda/recital-de-danses-catalanes.html
CLASS:PUBLIC
END:VEVENT
END:VCALENDAR
