BEGIN:VCALENDAR
VERSION:2.0
CALSCALE:GREGORIAN
PRODID:-//Diputació de Barcelona//DibaCMS//EN
BEGIN:VEVENT
UID:1326
DTSTAMP:20260419T150145
DTSTART:20100415T180000
DTEND:20100415T000000
SUMMARY:L'hora del conte - 15/04/2010
LOCATION:
METHOD:PUBLISH
X-WR-CALNAME:ullastrell@ullastrell.cat
X-WR-TIMEZONE:Europe/Madrid
DESCRIPTION:L'hora del conte, amb titelles. Especial Sant JordiEls herois estan revolucionats! Com és que Sant Jordi té una Diada i ells no?
No és prou important despertar una princesa, salvar una nena de les urpen d'un llop, o rescatar les teves filles del ventre d'una bèstia?
Si per tenir una diada cal matar un drac, ja cal que comenci a còrrer...
Representació de l'obra "Sant Jordi està en perill" a càrrec de Glòria Arrufat.Lloc: BibliotecaOrganitzador: Biblioteca Josep Massagué
URI:https://www.ullastrell.cat/actualitat/agenda/lhora-del-conte-15042010.html
CLASS:PUBLIC
END:VEVENT
END:VCALENDAR
