BEGIN:VCALENDAR
VERSION:2.0
CALSCALE:GREGORIAN
PRODID:-//Diputació de Barcelona//DibaCMS//EN
BEGIN:VEVENT
UID:1329
DTSTAMP:20260419T172956
DTSTART:20100515T210000
DTEND:20100515T000000
SUMMARY:XXI Mostra de Teatre: "Invisibles"
LOCATION:
METHOD:PUBLISH
X-WR-CALNAME:ullastrell@ullastrell.cat
X-WR-TIMEZONE:Europe/Madrid
DESCRIPTION:El grup de Santa Perpètua de la Moguda 'Versió Subtitulada' ens oferiran l'obra Invisibles.
 Lloc: Sala Actes del casalOrganitzador: GATU
URI:https://www.ullastrell.cat/actualitat/agenda/xxi-mostra-de-teatre-invisibles.html
CLASS:PUBLIC
END:VEVENT
END:VCALENDAR
