BEGIN:VCALENDAR
VERSION:2.0
CALSCALE:GREGORIAN
PRODID:-//Diputació de Barcelona//DibaCMS//EN
BEGIN:VEVENT
UID:1330
DTSTAMP:20260419T150633
DTSTART:20100508T000000
DTEND:20100509T000000
SUMMARY:Participació a la Fira Modernista de Terrassa - 08/05/2010
LOCATION:
METHOD:PUBLISH
X-WR-CALNAME:ullastrell@ullastrell.cat
X-WR-TIMEZONE:Europe/Madrid
DESCRIPTION:Ullastrell promocionarà els seus productes locals a la Fira Modernista més important de Catalunya.Els propers dies 8 i 9 de Maig l’Ajuntament d’Ullastrell, participarà una vegada més a la Fira Modernista de Terrassa. Enguany la seva missió a la parada del Raval de Montserrat  consistirà en promocionar el comerç Local a la veïna ciutat de Terrassa. També està prevista la participació d’una parada a la rambla de l’Ameu, amb diferents comerços locals.
 
El dia 9 al migdia ens visitaran com cada any els tradicionals vehicles i motos antigues que faran la seva parada al aparcament de les escoles on tothom qui vulgui podrà gaudir d’aquestes “relíquies”.
 
Vine i descobreix Terrassa, una ciutat clau en el modernisme català.
 Lloc: Raval de Montserrat, TerrassaOrganitzador: Ajuntament/AMEU
URI:https://www.ullastrell.cat/actualitat/agenda/participacio-a-la-fira-modernista-de-terrassa-08052010.html
CLASS:PUBLIC
END:VEVENT
END:VCALENDAR
