BEGIN:VCALENDAR
VERSION:2.0
CALSCALE:GREGORIAN
PRODID:-//Diputació de Barcelona//DibaCMS//EN
BEGIN:VEVENT
UID:1331
DTSTAMP:20260419T144251
DTSTART:20100508T000000
DTEND:20100509T000000
SUMMARY:Recreació de la Cercavila del Corpus
LOCATION:
METHOD:PUBLISH
X-WR-CALNAME:ullastrell@ullastrell.cat
X-WR-TIMEZONE:Europe/Madrid
DESCRIPTION:Participació a la Fira Modernista de TerrassaEls geganters i grallers d'Ullastrell, participaran a la recreació de les cercaviles que es feien per la festivitat del Corpus, sumant-se a les representacions i actes que es celebran a Terrassa amb motiu de la Festa Modernista.
Els horaris seran el dissabte a les 20 hores i el diumenge a les 11 del matíLloc: Fira Modernista de TerrassaOrganitzador: Geganters d'Ullastrell
URI:https://www.ullastrell.cat/actualitat/agenda/recreacio-de-la-cercavila-del-corpus.html
CLASS:PUBLIC
END:VEVENT
END:VCALENDAR
