BEGIN:VCALENDAR
VERSION:2.0
CALSCALE:GREGORIAN
PRODID:-//Diputació de Barcelona//DibaCMS//EN
BEGIN:VEVENT
UID:1332
DTSTAMP:20260419T180952
DTSTART:20100520T180000
DTEND:20100520T000000
SUMMARY:L'hora del conte - 20/05/2010
LOCATION:
METHOD:PUBLISH
X-WR-CALNAME:ullastrell@ullastrell.cat
X-WR-TIMEZONE:Europe/Madrid
DESCRIPTION:L'hora del conte a la BibliotecaAquest mes el Carles Aloy, ens explicarà uns contes.
 Lloc: BibliotecaOrganitzador: Biblioteca Josep Massagué
URI:https://www.ullastrell.cat/actualitat/agenda/lhora-del-conte-20052010.html
CLASS:PUBLIC
END:VEVENT
END:VCALENDAR
