BEGIN:VCALENDAR
VERSION:2.0
CALSCALE:GREGORIAN
PRODID:-//Diputació de Barcelona//DibaCMS//EN
BEGIN:VEVENT
UID:1334
DTSTAMP:20260419T160057
DTSTART:20100606T190000
DTEND:20100606T000000
SUMMARY:Cinema: "La leyenda del pianista en el oceáno"
LOCATION:
METHOD:PUBLISH
X-WR-CALNAME:ullastrell@ullastrell.cat
X-WR-TIMEZONE:Europe/Madrid
DESCRIPTION:Cinema / Any: 1998 / Duració: 120 min. / Director: Giuseppe Tornatore1 Globus d'Or i 6 premis David de Donatello.
 
Drama, música / SINÒPSIS: L'entrada del segle XX genera grans expectatives i il.lusions, i emigracions massives als Estats Units a bord dels elegants transatlàntics. Danny, el maquinista d'un d'aquests vaixells -el Virgínia-, es troba a un nen abandonat sobre un piano i decideix adoptar, batejant-lo com Mil Nou-cents. El vaixell es converteix en la seva fortalesa i la seva llar, i els passatgers en les seves finestres al món. Després de la mort de Danny, Mil Nou-cents s'ocupa dels cellers fins que casualment, algú de la tripulació descobreix el seu innat talent amb el piano. A través de la música, aquest inusual personatge mostra al món el que sent dins del seu reduït món, que no s'atreveix a abandonar. (Filmaffinity)
 
Interpretació de Tim Roth, Pruitt Taylor Vince, Mélanie Thierry.Lloc: Sala Actes CasalOrganitzador: Patronat-L'Ull
URI:https://www.ullastrell.cat/actualitat/agenda/cinema-la-leyenda-del-pianista-en-el-oceano.html
CLASS:PUBLIC
END:VEVENT
END:VCALENDAR
