BEGIN:VCALENDAR
VERSION:2.0
CALSCALE:GREGORIAN
PRODID:-//Diputació de Barcelona//DibaCMS//EN
BEGIN:VEVENT
UID:1335
DTSTAMP:20260419T170842
DTSTART:20100613T190000
DTEND:20100613T000000
SUMMARY:Circ Pistolet
LOCATION:
METHOD:PUBLISH
X-WR-CALNAME:ullastrell@ullastrell.cat
X-WR-TIMEZONE:Europe/Madrid
DESCRIPTION:Circ i entreteniment pels més petits i per tota la família.Dins la programació mensual infantil el Patronat ens presenta el Circ Pistolet.
 Lloc: Sala Actes CasalOrganitzador: Patronat
URI:https://www.ullastrell.cat/actualitat/agenda/circ-pistolet.html
CLASS:PUBLIC
END:VEVENT
END:VCALENDAR
