BEGIN:VCALENDAR
VERSION:2.0
CALSCALE:GREGORIAN
PRODID:-//Diputació de Barcelona//DibaCMS//EN
BEGIN:VEVENT
UID:1337
DTSTAMP:20260419T191442
DTSTART:20100625T170000
DTEND:20100625T000000
SUMMARY:Un cafè i un llibre per a la gent gran - 25/06/2010
LOCATION:
METHOD:PUBLISH
X-WR-CALNAME:ullastrell@ullastrell.cat
X-WR-TIMEZONE:Europe/Madrid
DESCRIPTION:Un cafè i un llibre per a la gent granTertúlia literaria, per a la gent gran.
 Lloc: BibliotecaOrganitzador: Biblioteca Josep Massagué
URI:https://www.ullastrell.cat/actualitat/agenda/un-cafe-i-un-llibre-per-a-la-gent-gran-25062010.html
CLASS:PUBLIC
END:VEVENT
END:VCALENDAR
