BEGIN:VCALENDAR
VERSION:2.0
CALSCALE:GREGORIAN
PRODID:-//Diputació de Barcelona//DibaCMS//EN
BEGIN:VEVENT
UID:1338
DTSTAMP:20260419T192616
DTSTART:20100627T190000
DTEND:20100627T000000
SUMMARY:XXI Mostra de Teatre: Casa de Nines
LOCATION:
METHOD:PUBLISH
X-WR-CALNAME:ullastrell@ullastrell.cat
X-WR-TIMEZONE:Europe/Madrid
DESCRIPTION:Representació de l'obra " Casa de Nines"El Grup d'amics del teatre d'Ullastrell (GATU) , ens presenta l'obra Casa de Nines d'Ibsen, dirigits per Dídac Garcia.Lloc: Sala Actes CasalOrganitzador: GATU
URI:https://www.ullastrell.cat/actualitat/agenda/xxi-mostra-de-teatre-casa-de-nines.html
CLASS:PUBLIC
END:VEVENT
END:VCALENDAR
