BEGIN:VCALENDAR
VERSION:2.0
CALSCALE:GREGORIAN
PRODID:-//Diputació de Barcelona//DibaCMS//EN
BEGIN:VEVENT
UID:1342
DTSTAMP:20260419T205217
DTSTART:20100725T200000
DTEND:20100725T000000
SUMMARY:Cinema: ”Robin Hood”
LOCATION:
METHOD:PUBLISH
X-WR-CALNAME:ullastrell@ullastrell.cat
X-WR-TIMEZONE:Europe/Madrid
DESCRIPTION:Cinema / Any: 2010 / Duració: 140 min. / Director: Ridley ScottAventures. Acció | Edat Mitjana. Segle XIII. Cinema èpic / SINÒPSIS: Anglaterra, segle XIII. Robin Longstride (Russell Crowe), un magnífic arquer al servei del rei Ricard Cor de Lleó (Danny Huston), torna de les creuades a Terra Santa saquejant poblats mentre lluita contra les tropes franceses. Quan Ricardo mor sota una data francesa, Robin es trasllada a Nottingham amb l'objectiu de complir una promesa que va fer a Sir Robert Loxley (Douglas Hodge) abans de morir: tornar una espasa al seu pare, Sir Walter Loxley (Max Von Sydow). Allà coneix a lady Marion (Cate Blanchett), la seva vídua, una dona amb caràcter. Mentrestant, en un país debilitat per una llarga guerra, regit per Juan (Oscar Isaac), un rei feble i poc eficaç, contra les revoltes internes i les amenaces externes maquinat pel pèrfid Godfrey (Mark Strong), Robin i els seus homes es deixen portar cap a una aventura més gran: decideixen ajudar a impedir que el país caigui irremeiablement en una sagnant guerra civil, i tornar la glòria a Anglaterra. (Filmaffinity)Lloc: Sala d'Actes del Casal CulturalOrganitzador: Patronat
URI:https://www.ullastrell.cat/actualitat/agenda/cinema-robin-hood.html
CLASS:PUBLIC
END:VEVENT
END:VCALENDAR
