BEGIN:VCALENDAR
VERSION:2.0
CALSCALE:GREGORIAN
PRODID:-//Diputació de Barcelona//DibaCMS//EN
BEGIN:VEVENT
UID:1343
DTSTAMP:20260419T172609
DTSTART:20100730T170000
DTEND:20100730T000000
SUMMARY:Un cafè i un lllibre per a la Gent Gran - 30/07/2010
LOCATION:
METHOD:PUBLISH
X-WR-CALNAME:ullastrell@ullastrell.cat
X-WR-TIMEZONE:Europe/Madrid
DESCRIPTION:La Gent Gran parlen dels llibres d'actualitat mentre es prenen un cafè.
 
 Lloc: Biblioteca Josep MassaguéOrganitzador: Biblioteca Josep Massagué
URI:https://www.ullastrell.cat/actualitat/agenda/un-cafe-i-un-lllibre-per-a-la-gent-gran-30072010.html
CLASS:PUBLIC
END:VEVENT
END:VCALENDAR
