BEGIN:VCALENDAR
VERSION:2.0
CALSCALE:GREGORIAN
PRODID:-//Diputació de Barcelona//DibaCMS//EN
BEGIN:VEVENT
UID:1344
DTSTAMP:20260419T171312
DTSTART:20100829T200000
DTEND:20100829T000000
SUMMARY:Cinema: A concretar - 29/08/2010
LOCATION:
METHOD:PUBLISH
X-WR-CALNAME:ullastrell@ullastrell.cat
X-WR-TIMEZONE:Europe/Madrid
DESCRIPTION:Projecció de cinema.
 
 Lloc: Sala Actes del casalOrganitzador: Patronat
URI:https://www.ullastrell.cat/actualitat/agenda/cinema-a-concretar-29082010.html
CLASS:PUBLIC
END:VEVENT
END:VCALENDAR
