BEGIN:VCALENDAR
VERSION:2.0
CALSCALE:GREGORIAN
PRODID:-//Diputació de Barcelona//DibaCMS//EN
BEGIN:VEVENT
UID:1345
DTSTAMP:20260419T190725
DTSTART:20100905T190000
DTEND:20100905T000000
SUMMARY:Cinema: A concretar - 05/09/2010
LOCATION:
METHOD:PUBLISH
X-WR-CALNAME:ullastrell@ullastrell.cat
X-WR-TIMEZONE:Europe/Madrid
DESCRIPTION:Projecció de cinema.
 Lloc: Sala Actes del casalOrganitzador: Patronat-L'Ull
URI:https://www.ullastrell.cat/actualitat/agenda/cinema-a-concretar-05092010.html
CLASS:PUBLIC
END:VEVENT
END:VCALENDAR
