BEGIN:VCALENDAR
VERSION:2.0
CALSCALE:GREGORIAN
PRODID:-//Diputació de Barcelona//DibaCMS//EN
BEGIN:VEVENT
UID:1347
DTSTAMP:20260419T220119
DTSTART:20100911T000000
DTEND:20100912T000000
SUMMARY:Exposició de manualitats - 11/09/2010
LOCATION:
METHOD:PUBLISH
X-WR-CALNAME:ullastrell@ullastrell.cat
X-WR-TIMEZONE:Europe/Madrid
DESCRIPTION:Exposició dels treballs realitzats durant el curs.
 Lloc: Sala d'Exposicions del CasalOrganitzador: Curs de Manualitats
URI:https://www.ullastrell.cat/actualitat/agenda/exposicio-de-manualitats-11092010.html
CLASS:PUBLIC
END:VEVENT
END:VCALENDAR
