BEGIN:VCALENDAR
VERSION:2.0
CALSCALE:GREGORIAN
PRODID:-//Diputació de Barcelona//DibaCMS//EN
BEGIN:VEVENT
UID:1349
DTSTAMP:20260419T234056
DTSTART:20100919T190000
DTEND:20100919T000000
SUMMARY:Cinema: A concretar - 19/09/2010
LOCATION:
METHOD:PUBLISH
X-WR-CALNAME:ullastrell@ullastrell.cat
X-WR-TIMEZONE:Europe/Madrid
DESCRIPTION:Projecció de cinema.
 Lloc: Sala Actes CasalOrganitzador: Patronat
URI:https://www.ullastrell.cat/actualitat/agenda/cinema-a-concretar-19092010.html
CLASS:PUBLIC
END:VEVENT
END:VCALENDAR
