BEGIN:VCALENDAR
VERSION:2.0
CALSCALE:GREGORIAN
PRODID:-//Diputació de Barcelona//DibaCMS//EN
BEGIN:VEVENT
UID:1350
DTSTAMP:20260419T233903
DTSTART:20100923T180000
DTEND:20100923T000000
SUMMARY:L'hora del conte - 23/09/2010
LOCATION:
METHOD:PUBLISH
X-WR-CALNAME:ullastrell@ullastrell.cat
X-WR-TIMEZONE:Europe/Madrid
DESCRIPTION:L'Anna Garcia, avui ens explicarà un conte.
 Lloc: BibliotecaOrganitzador: Biblioteca Josep Massagué
URI:https://www.ullastrell.cat/actualitat/agenda/lhora-del-conte-23092010.html
CLASS:PUBLIC
END:VEVENT
END:VCALENDAR
