BEGIN:VCALENDAR
VERSION:2.0
CALSCALE:GREGORIAN
PRODID:-//Diputació de Barcelona//DibaCMS//EN
BEGIN:VEVENT
UID:1351
DTSTAMP:20260420T021445
DTSTART:20100911T000000
DTEND:20100911T000000
SUMMARY:Diada de Catalunya
LOCATION:
METHOD:PUBLISH
X-WR-CALNAME:ullastrell@ullastrell.cat
X-WR-TIMEZONE:Europe/Madrid
DESCRIPTION:L'once es celebra la Diada de Catalunya.
 Lloc: Organitzador: 
URI:https://www.ullastrell.cat/actualitat/agenda/diada-de-catalunya.html
CLASS:PUBLIC
END:VEVENT
END:VCALENDAR
