BEGIN:VCALENDAR
VERSION:2.0
CALSCALE:GREGORIAN
PRODID:-//Diputació de Barcelona//DibaCMS//EN
BEGIN:VEVENT
UID:1354
DTSTAMP:20260419T234035
DTSTART:20101006T000000
DTEND:20101015T000000
SUMMARY:Exposició: "100 anys d'estelada"
LOCATION:
METHOD:PUBLISH
X-WR-CALNAME:ullastrell@ullastrell.cat
X-WR-TIMEZONE:Europe/Madrid
DESCRIPTION:Presentació de l' exposició: "100 anys d'estelada".
En motiu del centenari de la senyera independentista i del 76è. anniversari de la proclamació de l'estat català pel president LLuís Companys, es compartirà i dialogarà sobre el tema, i després coca i mistela per a tothom.Lloc: Al Hall del Casal Cultural d'UllastrellOrganitzador: ERC Ullastrell / JERC Vallès / Patronat del Casal
URI:https://www.ullastrell.cat/actualitat/agenda/exposicio-100-anys-destelada.html
CLASS:PUBLIC
END:VEVENT
END:VCALENDAR
