BEGIN:VCALENDAR
VERSION:2.0
CALSCALE:GREGORIAN
PRODID:-//Diputació de Barcelona//DibaCMS//EN
BEGIN:VEVENT
UID:1359
DTSTAMP:20260420T033517
DTSTART:20101225T200000
DTEND:20101225T000000
SUMMARY:XXII Mostra de Teatre: La trilogia del futur
LOCATION:
METHOD:PUBLISH
X-WR-CALNAME:ullastrell@ullastrell.cat
X-WR-TIMEZONE:Europe/Madrid
DESCRIPTION:Tres peces breus interpretades per la colla més jove del GATU.Dins el marc de la XXII Mostra de Teatre, el GATU presenta una obra amb els protagonistes locals. Són tres peces breus: El país de les cent paraules, A cal Retratista i El testament de'n Nasi. La direcció és a càrrec de Pepa Montes, Mar Puig i Roser Anglada.
No us perdeu els futurs artistes d'Ullastrell!Lloc: Sala Actes CasalOrganitzador: GATU
URI:https://www.ullastrell.cat/actualitat/agenda/xxii-mostra-de-teatre-la-trilogia-del-futur.html
CLASS:PUBLIC
END:VEVENT
END:VCALENDAR
