BEGIN:VCALENDAR
VERSION:2.0
CALSCALE:GREGORIAN
PRODID:-//Diputació de Barcelona//DibaCMS//EN
BEGIN:VEVENT
UID:1360
DTSTAMP:20260420T050102
DTSTART:20101218T170000
DTEND:20101218T000000
SUMMARY:Concert de Nadal - 18/12/2010
LOCATION:
METHOD:PUBLISH
X-WR-CALNAME:ullastrell@ullastrell.cat
X-WR-TIMEZONE:Europe/Madrid
DESCRIPTION:Petit concert de Nadal pels avis de la residència d'Ullastrell.
 
 Lloc: Residència d'UllastrellOrganitzador: Coral d'Ullastrell
URI:https://www.ullastrell.cat/actualitat/agenda/concert-de-nadal-18122010.html
CLASS:PUBLIC
END:VEVENT
END:VCALENDAR
