BEGIN:VCALENDAR
VERSION:2.0
CALSCALE:GREGORIAN
PRODID:-//Diputació de Barcelona//DibaCMS//EN
BEGIN:VEVENT
UID:1361
DTSTAMP:20260420T004935
DTSTART:20101226T200000
DTEND:20101226T000000
SUMMARY:Concert de Sant Esteve - 26/12/2010
LOCATION:
METHOD:PUBLISH
X-WR-CALNAME:ullastrell@ullastrell.cat
X-WR-TIMEZONE:Europe/Madrid
DESCRIPTION:Concert tradicional de Nadal i Sant Esteve.
 
 Lloc: Sala Actes CasalOrganitzador: Coral d'Ullastrell
URI:https://www.ullastrell.cat/actualitat/agenda/concert-de-sant-esteve-26122010.html
CLASS:PUBLIC
END:VEVENT
END:VCALENDAR
