BEGIN:VCALENDAR
VERSION:2.0
CALSCALE:GREGORIAN
PRODID:-//Diputació de Barcelona//DibaCMS//EN
BEGIN:VEVENT
UID:1362
DTSTAMP:20260420T021523
DTSTART:20110102T190000
DTEND:20110102T000000
SUMMARY:Cinema: "The Town"
LOCATION:
METHOD:PUBLISH
X-WR-CALNAME:ullastrell@ullastrell.cat
X-WR-TIMEZONE:Europe/Madrid
DESCRIPTION:Cinema / Any: 2010 / Duració: 125 min. / Director: Ben AffleckThriller. Drama. Crims / SINÒPSIS: Mentre planifica el seu pròxim treball, Doug MacRay (Ben Affleck), un atracador de bancs de Boston s'esforça per controlar els seus sentiments per Claire Keesey (Rebecca Hall), la directora d'un dels bancs, relacionada amb un dels seus primers cops, a mateix temps que intenta esquivar l'agent de l'FBI Frawley (Jon Hamm) que el persegueix. (FilmAffinity)Lloc: Sala Actes CasalOrganitzador: Patronat
URI:https://www.ullastrell.cat/actualitat/agenda/cinema-the-town.html
CLASS:PUBLIC
END:VEVENT
END:VCALENDAR
