BEGIN:VCALENDAR
VERSION:2.0
CALSCALE:GREGORIAN
PRODID:-//Diputació de Barcelona//DibaCMS//EN
BEGIN:VEVENT
UID:1363
DTSTAMP:20260420T040141
DTSTART:20110128T170000
DTEND:20110128T000000
SUMMARY:Un cafè i un llibre per a la Gent Gran - 28/01/2011
LOCATION:
METHOD:PUBLISH
X-WR-CALNAME:ullastrell@ullastrell.cat
X-WR-TIMEZONE:Europe/Madrid
DESCRIPTION:La gent gran s'acosta a la biblioteca per bescanviar llibres i fer una petita tertúlia literaria.
 
 Lloc: Biblioteca Josep MassaguéOrganitzador: Biblioteca Josep Massagué
URI:https://www.ullastrell.cat/actualitat/agenda/un-cafe-i-un-llibre-per-a-la-gent-gran-28012011.html
CLASS:PUBLIC
END:VEVENT
END:VCALENDAR
