BEGIN:VCALENDAR
VERSION:2.0
CALSCALE:GREGORIAN
PRODID:-//Diputació de Barcelona//DibaCMS//EN
BEGIN:VEVENT
UID:1364
DTSTAMP:20260420T050832
DTSTART:20110206T180000
DTEND:20110206T000000
SUMMARY:Teatre: Casa de Nines - 06/02/2011
LOCATION:
METHOD:PUBLISH
X-WR-CALNAME:ullastrell@ullastrell.cat
X-WR-TIMEZONE:Europe/Madrid
DESCRIPTION:El Grup d'amics del teatre d'Ullastrell (GATU), representarà l'obra de teatre Casa de Nines, d'Ibsen, dirigits per Dídac Garcia, a Sant Feliu de Codines.
 Lloc: Sant Feliu CodinesOrganitzador: GATU
URI:https://www.ullastrell.cat/actualitat/agenda/teatre-casa-de-nines-06022011.html
CLASS:PUBLIC
END:VEVENT
END:VCALENDAR
